BEGIN:VCALENDAR
VERSION:2.0
PRODID:-//Acme Widgets\, Inc.//NONSGML ExportToCalendar//EN
CALSCALE:GREGORIAN
BEGIN:VEVENT
DTSTAMP:20260423T132430Z
UID:edeab49c-5f22-4082-a2d5-4b68a800d324
DTSTART:20260429T170000
DTEND:20260429T172000
DESCRIPTION:Inspection for 16 Ann Street\, PASCOE VALE VIC 3044
LOCATION:16 Ann Street\, PASCOE VALE VIC 3044
SUMMARY:16 Ann Street\, PASCOE VALE VIC 3044
END:VEVENT
END:VCALENDAR
