BEGIN:VCALENDAR
VERSION:2.0
PRODID:icalendar-ruby
CALSCALE:GREGORIAN
METHOD:PUBLISH
BEGIN:VTIMEZONE
TZID:Australia/Melbourne
BEGIN:DAYLIGHT
DTSTART:20201004T030000
TZOFFSETFROM:+1000
TZOFFSETTO:+1100
RRULE:FREQ=YEARLY;BYDAY=1SU;BYMONTH=10
TZNAME:AEDT
END:DAYLIGHT
BEGIN:STANDARD
DTSTART:20210404T020000
TZOFFSETFROM:+1100
TZOFFSETTO:+1000
RRULE:FREQ=YEARLY;BYDAY=1SU;BYMONTH=4
TZNAME:AEST
END:STANDARD
END:VTIMEZONE
BEGIN:VEVENT
DTSTAMP:20210226T062444Z
UID:inspection_933547
DTSTART;TZID=Australia/Melbourne:20210227T114500
DTEND;TZID=Australia/Melbourne:20210227T120000
CLASS:PUBLIC
CREATED:20210224T145018
DESCRIPTION: 
LAST-MODIFIED:20210224T145018
LOCATION:1 / 26 Acacia Street\, GLENROY VIC 3046\, Australia
SUMMARY:1 / 26 Acacia Street\,  Inspection
URL:http://www.opre.com.au/
END:VEVENT
END:VCALENDAR
